BEGIN:VCALENDAR
PRODID:-//AT Content Types//AT Event//EN
VERSION:1.0
BEGIN:VEVENT
DTSTART:20120306T150000Z
DTEND:20120306T154500Z
DCREATED:20120223T142252Z
UID:ATEvent-e13e48ad5cecff24c5f5ae8824d22395
SEQUENCE:0
LAST-MODIFIED:20120223T142259Z
SUMMARY:Böjti bibliaóra
DESCRIPTION:2012 böjtjében ötalkalmas bibliaóra-sorozatot tartunk 
 kedd délutánonként 16 órától az imaházban
LOCATION:Homokbödöge
PRIORITY:3
TRANSP:0
END:VEVENT
END:VCALENDAR
